BEGIN:VCALENDAR
VERSION:2.0
PRODID:-//Magical Minds Studio - ECPv6.2.9//NONSGML v1.0//EN
CALSCALE:GREGORIAN
METHOD:PUBLISH
X-WR-CALNAME:Magical Minds Studio
X-ORIGINAL-URL:https://magicalmindsstudio.com
X-WR-CALDESC:Events for Magical Minds Studio
REFRESH-INTERVAL;VALUE=DURATION:PT1H
X-Robots-Tag:noindex
X-PUBLISHED-TTL:PT1H
BEGIN:VTIMEZONE
TZID:America/Chicago
BEGIN:DAYLIGHT
TZOFFSETFROM:-0600
TZOFFSETTO:-0500
TZNAME:CDT
DTSTART:20200308T080000
END:DAYLIGHT
BEGIN:STANDARD
TZOFFSETFROM:-0500
TZOFFSETTO:-0600
TZNAME:CST
DTSTART:20201101T070000
END:STANDARD
END:VTIMEZONE
BEGIN:VEVENT
DTSTART;VALUE=DATE:20200727
DTEND;VALUE=DATE:20200801
DTSTAMP:20260420T211107
CREATED:20200211T174150Z
LAST-MODIFIED:20200708T154120Z
UID:15463-1595808000-1596239999@magicalmindsstudio.com
SUMMARY:K-6th grade Summer Camp- Multimedia Art
DESCRIPTION:We love multimedia and all the art media it incorporates! From paper-making to watercolor\, we’ll wrap up the summer using all the fantastic elements of art. Expect paintings\, collage\, homemade paper\, printing\, sculptures and more.\n \nFor campers staying past noon we’ll have a lunch break and then dive into choice-based activities which include fine arts\, games and outside play.\n\nCampers should wear clothes that can get dirty and comfortable shoes. Everyone should bring a water bottle and snack\, as well as a lunch if you’re staying after 12:00 pm.\n\nNo food with nuts\, please.\n \n\nSign up options:\n\nPick up at 12pm\, $52 per day (or if you sign up for all 5 days\, the discounted price is $225)*\nPick up at 3pm\, $89 per day (or if you sign up for all 5 days\, the discounted price is $395)*
URL:https://magicalmindsstudio.com/calendar/k-6th-grade-summer-camp-multimedia-art/
LOCATION:Magical Minds Studio\, 110 Madison St.\, Oak Park\, IL\, 60302\, United States
CATEGORIES:Camps
ATTACH;FMTTYPE=image/jpeg:https://magicalmindsstudio.com/wp-content/uploads/2020/02/20190822_133939_1.jpg
ORGANIZER;CN="Magical Minds Studio":MAILTO:haj@magicalmindsstudio.com
END:VEVENT
END:VCALENDAR