BEGIN:VCALENDAR
VERSION:2.0
PRODID:-//Magical Minds Studio - ECPv6.2.9//NONSGML v1.0//EN
CALSCALE:GREGORIAN
METHOD:PUBLISH
X-ORIGINAL-URL:https://magicalmindsstudio.com
X-WR-CALDESC:Events for Magical Minds Studio
REFRESH-INTERVAL;VALUE=DURATION:PT1H
X-Robots-Tag:noindex
X-PUBLISHED-TTL:PT1H
BEGIN:VTIMEZONE
TZID:America/Chicago
BEGIN:DAYLIGHT
TZOFFSETFROM:-0600
TZOFFSETTO:-0500
TZNAME:CDT
DTSTART:20200308T080000
END:DAYLIGHT
BEGIN:STANDARD
TZOFFSETFROM:-0500
TZOFFSETTO:-0600
TZNAME:CST
DTSTART:20201101T070000
END:STANDARD
END:VTIMEZONE
BEGIN:VEVENT
DTSTART;TZID=America/Chicago:20200720T100000
DTEND;TZID=America/Chicago:20200720T104000
DTSTAMP:20260421T114014
CREATED:20200721T162218Z
LAST-MODIFIED:20200721T170216Z
UID:16344-1595239200-1595241600@magicalmindsstudio.com
SUMMARY:Sloth Drawing\, ages 5-10
DESCRIPTION:**Our classes are taught via Zoom. Once you have signed up\, we will email you the meeting information and password.** \nFollow along with Ms. Lindsay as we use basic shapes to create a cute sloth! \nMaterials needed (not supplied by Magical Minds): \n\nWhite Paper\n#2 Pencil\nBlack Sharpie\nOil Pastels or Crayons\n\nPrice: \n\n$15 for 1 session
URL:https://magicalmindsstudio.com/calendar/sloth-drawing-ages-5-10/2020-07-20/
LOCATION:Online via Zoom
CATEGORIES:Art Class
ATTACH;FMTTYPE=image/jpeg:https://magicalmindsstudio.com/wp-content/uploads/2020/07/LD-ZOOM-SAMPLE_sloth.jpg
ORGANIZER;CN="Magical Minds Studio":MAILTO:haj@magicalmindsstudio.com
END:VEVENT
BEGIN:VEVENT
DTSTART;TZID=America/Chicago:20200720T110000
DTEND;TZID=America/Chicago:20200720T114000
DTSTAMP:20260421T114014
CREATED:20200721T163847Z
LAST-MODIFIED:20200721T163847Z
UID:16387-1595242800-1595245200@magicalmindsstudio.com
SUMMARY:Bear Drawing\, ages 5-10
DESCRIPTION:**Our classes are taught via Zoom. Once you have signed up\, we will email you the meeting information and password.** \nFollow along with Ms. Lindsay as we use basic shapes to create a cute bear cub! \nMaterials needed (not supplied by Magical Minds):White Paper \n\n#2 Pencil\nBlack Sharpe\nCrayons\n\nPrice: \n\n$15 for 1 session
URL:https://magicalmindsstudio.com/calendar/bear-drawing-ages-5-10/2020-07-20/
LOCATION:Online via Zoom
CATEGORIES:Art Class
ATTACH;FMTTYPE=image/jpeg:https://magicalmindsstudio.com/wp-content/uploads/2020/07/LD-ZOOM-SAMPLE_bear.jpg
ORGANIZER;CN="Magical Minds Studio":MAILTO:haj@magicalmindsstudio.com
END:VEVENT
BEGIN:VEVENT
DTSTART;TZID=America/Chicago:20200720T120000
DTEND;TZID=America/Chicago:20200720T124000
DTSTAMP:20260421T114014
CREATED:20200721T162850Z
LAST-MODIFIED:20200721T163022Z
UID:16363-1595246400-1595248800@magicalmindsstudio.com
SUMMARY:Watercolor Painting\, ages 7-12
DESCRIPTION:**Our classes are taught via Zoom. Once you have signed up\, we will email you the meeting information and password.** \nFollow along with Ms. Lindsay as we experiment with blending watercolor techniques\, including blending colors and wax resistance with crayons! \nMaterials needed (not supplied by Magical Minds): \n\nWater Color Paper\nWater Color Paints\nCup of Water\nPaint Brush\nDrying Rag or Paper Towel\nBlack Sharpie\nCrayola Markers (all colors)\nCrayons\nScrap Water Color paper for cutting\nScissors\n\nPrice: \n\n$75 for 5 sessions
URL:https://magicalmindsstudio.com/calendar/watercolor-painting-ages-7-12/2020-07-20/
LOCATION:Online via Zoom
CATEGORIES:Art Class
ATTACH;FMTTYPE=image/jpeg:https://magicalmindsstudio.com/wp-content/uploads/2020/07/LD-ZOOM-SAMPLE_sunset.jpg
ORGANIZER;CN="Magical Minds Studio":MAILTO:haj@magicalmindsstudio.com
END:VEVENT
BEGIN:VEVENT
DTSTART;TZID=America/Chicago:20200720T140000
DTEND;TZID=America/Chicago:20200720T144000
DTSTAMP:20260421T114014
CREATED:20200721T160314Z
LAST-MODIFIED:20200721T160314Z
UID:16286-1595253600-1595256000@magicalmindsstudio.com
SUMMARY:Dolphin Drawing\, ages 7-12
DESCRIPTION:**Our classes are taught via Zoom. Once you have signed up\, we will email you the meeting information and password.** \nFollow along with Ms. Lindsay as we create an ocean scene with a leaping dolphin! \nMaterials needed (not supplied by Magical Minds): \n\nWhite Paper\n#2 Pencil\nBlack Sharpie\nOil Pastels or Crayons\n\nPrice: \n\n$15 for 1 session
URL:https://magicalmindsstudio.com/calendar/dolphin-drawing-ages-7-12/2020-07-20/
LOCATION:Online via Zoom
CATEGORIES:Art Class
ATTACH;FMTTYPE=image/jpeg:https://magicalmindsstudio.com/wp-content/uploads/2020/07/LD-ZOOM-SAMPLE_dolphin.jpg
ORGANIZER;CN="Magical Minds Studio":MAILTO:haj@magicalmindsstudio.com
END:VEVENT
BEGIN:VEVENT
DTSTART;TZID=America/Chicago:20200720T150000
DTEND;TZID=America/Chicago:20200720T154000
DTSTAMP:20260421T114014
CREATED:20200721T163311Z
LAST-MODIFIED:20200721T163431Z
UID:16375-1595257200-1595259600@magicalmindsstudio.com
SUMMARY:Beta Fish Drawing\, ages 7-12
DESCRIPTION:**Our classes are taught via Zoom. Once you have signed up\, we will email you the meeting information and password.** \nFollow along with Ms. Lindsay as we use shapes and lines that flow to create a colorful beta fish! \nMaterials needed (not supplied by Magical Minds): \n\nBlue construction paper\n#2 Pencil\nBlack Sharpie\nOil Pastels\nOr Crayons (Use white paper for crayons)\n\nPrice: \n\n$15 for 1 session
URL:https://magicalmindsstudio.com/calendar/beta-fish-drawing-ages-7-12/2020-07-20/
LOCATION:Online via Zoom
CATEGORIES:Art Class
ATTACH;FMTTYPE=image/jpeg:https://magicalmindsstudio.com/wp-content/uploads/2020/07/LD-ZOOM-SAMPLE_beta-fish-1.jpg
ORGANIZER;CN="Magical Minds Studio":MAILTO:haj@magicalmindsstudio.com
END:VEVENT
BEGIN:VEVENT
DTSTART;TZID=America/Chicago:20200721T100000
DTEND;TZID=America/Chicago:20200721T104000
DTSTAMP:20260421T114014
CREATED:20200721T155800Z
LAST-MODIFIED:20200721T155800Z
UID:16273-1595325600-1595328000@magicalmindsstudio.com
SUMMARY:Egyptian Goddess Drawing\, ages 7-12
DESCRIPTION:**Our classes are taught via Zoom. Once you have signed up\, we will email you the meeting information and password.** \nFollow along with Ms. Lindsay as we draw the Egyptian Goddess Isis! \nMaterials needed (not supplied by Magical Minds): \n\nYellow or White Paper\n#2 Pencil\nBlack Sharpie\nOil Pastels or Crayons\nRuler\n\nPrice: \n\n$15 for 1 session
URL:https://magicalmindsstudio.com/calendar/egyptian-goddess-drawing-ages-7-12/2020-07-21/
LOCATION:Online via Zoom
CATEGORIES:Art Class
ATTACH;FMTTYPE=image/jpeg:https://magicalmindsstudio.com/wp-content/uploads/2020/07/LD-ZOOM-SAMPLE_Egyptian.jpg
ORGANIZER;CN="Magical Minds Studio":MAILTO:haj@magicalmindsstudio.com
END:VEVENT
BEGIN:VEVENT
DTSTART;TZID=America/Chicago:20200721T120000
DTEND;TZID=America/Chicago:20200721T124000
DTSTAMP:20260421T114014
CREATED:20200721T160706Z
LAST-MODIFIED:20200721T160706Z
UID:16299-1595332800-1595335200@magicalmindsstudio.com
SUMMARY:Peacock Drawing\, ages 7-12
DESCRIPTION:**Our classes are taught via Zoom. Once you have signed up\, we will email you the meeting information and password.** \nFollow along with Ms. Lindsay as we use basic shapes to create a colorful peacock! \nMaterials needed (not supplied by Magical Minds): \n\nYellow or White Paper\n#2 Pencil\nBlack Sharpie\nOil Pastels or Crayons\n\nPrice: \n\n$15 for 1 session
URL:https://magicalmindsstudio.com/calendar/peacock-drawing-ages-7-12/2020-07-21/
LOCATION:Online via Zoom
CATEGORIES:Art Class
ATTACH;FMTTYPE=image/jpeg:https://magicalmindsstudio.com/wp-content/uploads/2020/07/LD-ZOOM-SAMPLE_peacock.jpg
ORGANIZER;CN="Magical Minds Studio":MAILTO:haj@magicalmindsstudio.com
END:VEVENT
BEGIN:VEVENT
DTSTART;TZID=America/Chicago:20200721T140000
DTEND;TZID=America/Chicago:20200721T144000
DTSTAMP:20260421T114014
CREATED:20200610T144235Z
LAST-MODIFIED:20200721T161548Z
UID:16076-1595340000-1595342400@magicalmindsstudio.com
SUMMARY:Drawing Faces\, ages 10-14
DESCRIPTION:**Our classes are taught via Zoom. Once you have signed up\, we will email you the meeting information and password.**\n\nFollow along with Ms. Lindsay as we use basic shapes and our ruler to find the proportions of the human face. In this 5 session class we will learn about the proportions of the face and dedicate lessons to eyes\, nose and mouth.\n\nMaterials needed (not supplied by Magical Minds):\n\n\nWhite Paper\nBlack Sharpie\n#2 Pencil\nRuler\nColor Pencils\n\n\nPrice: \n\n$75 for 5 sessions
URL:https://magicalmindsstudio.com/calendar/drawing-faces-ages-10-14/2020-07-21/
LOCATION:Online via Zoom
CATEGORIES:Art Class
ATTACH;FMTTYPE=image/jpeg:https://magicalmindsstudio.com/wp-content/uploads/2020/06/LD-ZOOM-SAMPLE_FACE2_EYE.jpg
ORGANIZER;CN="Magical Minds Studio":MAILTO:haj@magicalmindsstudio.com
END:VEVENT
BEGIN:VEVENT
DTSTART;TZID=America/Chicago:20200721T150000
DTEND;TZID=America/Chicago:20200721T154000
DTSTAMP:20260421T114014
CREATED:20200721T161059Z
LAST-MODIFIED:20200721T170439Z
UID:16311-1595343600-1595346000@magicalmindsstudio.com
SUMMARY:Rainbow Cloud\, ages 5-10
DESCRIPTION:**Our classes are taught via Zoom. Once you have signed up\, we will email you the meeting information and password.** \nFollow along with Ms. Lindsay as we turn a toilet paper tube into a rainbow cloud! \nMaterials needed (not supplied by Magical Minds): \n\nTwo sheets of white paper\nOne sheet of each color of the rainbow\nBlack Sharpie\nToilet Paper Tube\nTape\nScissors\n\nPrice: \n\n$15 for 1 session
URL:https://magicalmindsstudio.com/calendar/rainbow-cloud-ages-5-10/2020-07-21/
LOCATION:Online via Zoom
CATEGORIES:Art Class
ATTACH;FMTTYPE=image/jpeg:https://magicalmindsstudio.com/wp-content/uploads/2020/07/LD-ZOOM-SAMPLE_rainbow.jpg
ORGANIZER;CN="Magical Minds Studio":MAILTO:haj@magicalmindsstudio.com
END:VEVENT
BEGIN:VEVENT
DTSTART;TZID=America/Chicago:20200722T140000
DTEND;TZID=America/Chicago:20200722T144000
DTSTAMP:20260421T114014
CREATED:20200721T162634Z
LAST-MODIFIED:20200721T162634Z
UID:16351-1595426400-1595428800@magicalmindsstudio.com
SUMMARY:God's Eye\, ages 7-12
DESCRIPTION:**Our classes are taught via Zoom. Once you have signed up\, we will email you the meeting information and password.** \nFollow along with Ms. Lindsay as we weave a colorful Mexican God’s Eye\, a magical object that\ncontains the power to see things unknown. \nMaterials needed (not supplied by Magical Minds): \n\nTwo sticks (options: popsicle sticks / chopsticks / thin branches / straws)\nDuct Tape\n1-3 different colors of yarn\nScissors\n\nPrice: \n\n$15 for 1 session
URL:https://magicalmindsstudio.com/calendar/gods-eye-ages-7-12/2020-07-22/
LOCATION:Online via Zoom
CATEGORIES:Art Class
ATTACH;FMTTYPE=image/jpeg:https://magicalmindsstudio.com/wp-content/uploads/2020/07/LD-ZOOM-SAMPLE_godeye.jpg
ORGANIZER;CN="Magical Minds Studio":MAILTO:haj@magicalmindsstudio.com
END:VEVENT
BEGIN:VEVENT
DTSTART;TZID=America/Chicago:20200724T100000
DTEND;TZID=America/Chicago:20200724T104000
DTSTAMP:20260421T114014
CREATED:20200721T165907Z
LAST-MODIFIED:20200721T165907Z
UID:16400-1595584800-1595587200@magicalmindsstudio.com
SUMMARY:Choose Your Own Drawing Adventure\, all ages
DESCRIPTION:**Our classes are taught via Zoom. Once you have signed up\, we will email you the meeting information and password.** \nTake a one on one drawing class with Ms. Lindsay and select a drawing topic of your choice! \nSome ideas include: \n\nDog\nCat\nUnicorn\nFairy\nPenguin\nForest\n… or bring a brand new topic to the Zoom room! As well as your pencils\, crayons and markers!\n\nPrice: \n\n$18 for 1 session
URL:https://magicalmindsstudio.com/calendar/choose-your-own-drawing-adventure-all-ages/2020-07-24/
LOCATION:Online via Zoom
CATEGORIES:Art Class
ATTACH;FMTTYPE=image/jpeg:https://magicalmindsstudio.com/wp-content/uploads/2020/07/LD-ZOOM-SAMPLE_choice.jpg
ORGANIZER;CN="Magical Minds Studio":MAILTO:haj@magicalmindsstudio.com
END:VEVENT
END:VCALENDAR