BEGIN:VCALENDAR
VERSION:2.0
PRODID:-//Magical Minds Studio - ECPv6.2.9//NONSGML v1.0//EN
CALSCALE:GREGORIAN
METHOD:PUBLISH
X-ORIGINAL-URL:https://magicalmindsstudio.com
X-WR-CALDESC:Events for Magical Minds Studio
REFRESH-INTERVAL;VALUE=DURATION:PT1H
X-Robots-Tag:noindex
X-PUBLISHED-TTL:PT1H
BEGIN:VTIMEZONE
TZID:America/Chicago
BEGIN:DAYLIGHT
TZOFFSETFROM:-0600
TZOFFSETTO:-0500
TZNAME:CDT
DTSTART:20210314T080000
END:DAYLIGHT
BEGIN:STANDARD
TZOFFSETFROM:-0500
TZOFFSETTO:-0600
TZNAME:CST
DTSTART:20211107T070000
END:STANDARD
END:VTIMEZONE
BEGIN:VEVENT
DTSTART;TZID=America/Chicago:20210605T103000
DTEND;TZID=America/Chicago:20210605T120000
DTSTAMP:20260420T141921
CREATED:20210513T163003Z
LAST-MODIFIED:20210513T163131Z
UID:17542-1622889000-1622894400@magicalmindsstudio.com
SUMMARY:Storytelling Workshop\, ages 5-7
DESCRIPTION:We love stories! They rev up our imaginations and inspire us to make art! This summer at Magical Minds we’ll turn those stories into our own art! \n  \nThis one-off class is great for young storytellers! Parents can drop off and run errands while the kids have a creative morning at Magical Minds.
URL:https://magicalmindsstudio.com/calendar/storytelling-workshop/2021-06-05/
LOCATION:Magical Minds Studio\, 110 Madison St.\, Oak Park\, IL\, 60302\, United States
CATEGORIES:Art Class
ATTACH;FMTTYPE=image/jpeg:https://magicalmindsstudio.com/wp-content/uploads/2021/05/20200121_104115.jpg
ORGANIZER;CN="Magical Minds Studio":MAILTO:haj@magicalmindsstudio.com
END:VEVENT
BEGIN:VEVENT
DTSTART;TZID=America/Chicago:20210605T130000
DTEND;TZID=America/Chicago:20210605T143000
DTSTAMP:20260420T141921
CREATED:20210513T164201Z
LAST-MODIFIED:20210513T165526Z
UID:17570-1622898000-1622903400@magicalmindsstudio.com
SUMMARY:Saturday Tween Drawing Club
DESCRIPTION:Does your tween love drawing? This summer they can hang out with other tweens who never put their pencils down! \n  \nWe can help them develop their skills with projects and drawing exercises like gesture drawing\, contour drawings and negative space drawings. We’ll practice drawing highlights and shadows\, perspective and drawing what we see. \n  \nSmall group sizes mean more time and feedback with our teacher. Sign up for 1\, 2\, 3 or 4 classes per month.
URL:https://magicalmindsstudio.com/calendar/saturday-tween-drawing-club/2021-06-05/
LOCATION:Magical Minds Studio\, 110 Madison St.\, Oak Park\, IL\, 60302\, United States
CATEGORIES:Art Class
ATTACH;FMTTYPE=image/jpeg:https://magicalmindsstudio.com/wp-content/uploads/2021/05/20180717_9095.jpg
ORGANIZER;CN="Magical Minds Studio":MAILTO:haj@magicalmindsstudio.com
END:VEVENT
BEGIN:VEVENT
DTSTART;TZID=America/Chicago:20210606T130000
DTEND;TZID=America/Chicago:20210606T143000
DTSTAMP:20260420T141921
CREATED:20210513T164414Z
LAST-MODIFIED:20210513T165649Z
UID:17583-1622984400-1622989800@magicalmindsstudio.com
SUMMARY:Sunday Teen Drawing Club
DESCRIPTION:Does your teen love drawing? This summer they can hang out with other teens who never put their pencils down! \n  \nWe can help them develop their skills with projects and drawing exercises like gesture drawing\, contour drawings and negative space drawings. We’ll practice drawing highlights and shadows\, perspective and drawing what we see. \n  \nSmall group sizes mean more time and feedback with our teacher. Sign up for 1\, 2\, 3 or 4 classes.
URL:https://magicalmindsstudio.com/calendar/sunday-teen-drawing-club/2021-06-06/
LOCATION:Magical Minds Studio\, 110 Madison St.\, Oak Park\, IL\, 60302\, United States
CATEGORIES:Art Class
ATTACH;FMTTYPE=image/jpeg:https://magicalmindsstudio.com/wp-content/uploads/2021/05/20180719_9112.jpg
ORGANIZER;CN="Magical Minds Studio":MAILTO:haj@magicalmindsstudio.com
END:VEVENT
BEGIN:VEVENT
DTSTART;TZID=America/Chicago:20210612T103000
DTEND;TZID=America/Chicago:20210612T120000
DTSTAMP:20260420T141921
CREATED:20210513T163441Z
LAST-MODIFIED:20210513T165117Z
UID:17552-1623493800-1623499200@magicalmindsstudio.com
SUMMARY:Animals in Art\, ages 5-7
DESCRIPTION:Whether its our pets\, the animals we see at the zoo\, or creatures that we’ve only seen in books\, we love animals! Our teacher will teach kids how to draw some of their favorite animals\, or maybe we’ll make them in 3 dimensions! \n  \nThis one-off class is great for young animal lovers! Parents can drop off and run errands while the kids have a creative morning at Magical Minds.
URL:https://magicalmindsstudio.com/calendar/animals-in-art-ages-5-7/2021-06-12/
LOCATION:Magical Minds Studio\, 110 Madison St.\, Oak Park\, IL\, 60302\, United States
CATEGORIES:Art Class
ATTACH;FMTTYPE=image/jpeg:https://magicalmindsstudio.com/wp-content/uploads/2021/05/20210211_973007348C76.jpeg
ORGANIZER;CN="Magical Minds Studio":MAILTO:haj@magicalmindsstudio.com
END:VEVENT
BEGIN:VEVENT
DTSTART;TZID=America/Chicago:20210619T103000
DTEND;TZID=America/Chicago:20210619T120000
DTSTAMP:20260420T141921
CREATED:20210513T163650Z
LAST-MODIFIED:20210513T165234Z
UID:17562-1624098600-1624104000@magicalmindsstudio.com
SUMMARY:World Cultures\, ages 5-7
DESCRIPTION:We love seeing the beautiful ways cultures around the world express themselves! We’ll take a deep dive into a different culture and learn about how they make art! \n  \nThis one-off class is great for young world travelers! Parents can drop off and run errands while the kids have a creative morning at Magical Minds.
URL:https://magicalmindsstudio.com/calendar/world-cultures-ages-5-7/2021-06-19/
LOCATION:Magical Minds Studio\, 110 Madison St.\, Oak Park\, IL\, 60302\, United States
CATEGORIES:Art Class
ATTACH;FMTTYPE=image/jpeg:https://magicalmindsstudio.com/wp-content/uploads/2021/05/20200702_165514.jpg
ORGANIZER;CN="Magical Minds Studio":MAILTO:haj@magicalmindsstudio.com
END:VEVENT
BEGIN:VEVENT
DTSTART;TZID=America/Chicago:20210626T103000
DTEND;TZID=America/Chicago:20210626T120000
DTSTAMP:20260420T141921
CREATED:20210513T163850Z
LAST-MODIFIED:20210513T165345Z
UID:17566-1624703400-1624708800@magicalmindsstudio.com
SUMMARY:Maker Time\, ages 5-7
DESCRIPTION:Where one person sees a cardboard box\, another may see a spaceship or maybe a robot head! Recyclables make great art supplies\, letting our imaginations loose to reinvent simple items around us. \n  \nThis one-off class is great for young makers! Parents can drop off and run errands while the kids have a creative morning at Magical Minds.
URL:https://magicalmindsstudio.com/calendar/maker-time-ages-5-7/2021-06-26/
LOCATION:Magical Minds Studio\, 110 Madison St.\, Oak Park\, IL\, 60302\, United States
CATEGORIES:Art Class
ATTACH;FMTTYPE=image/jpeg:https://magicalmindsstudio.com/wp-content/uploads/2021/05/20210223_9530.jpeg
ORGANIZER;CN="Magical Minds Studio":MAILTO:haj@magicalmindsstudio.com
END:VEVENT
END:VCALENDAR