BEGIN:VCALENDAR
VERSION:2.0
PRODID:-//Magical Minds Studio - ECPv6.2.9//NONSGML v1.0//EN
CALSCALE:GREGORIAN
METHOD:PUBLISH
X-WR-CALNAME:Magical Minds Studio
X-ORIGINAL-URL:https://magicalmindsstudio.com
X-WR-CALDESC:Events for Magical Minds Studio
REFRESH-INTERVAL;VALUE=DURATION:PT1H
X-Robots-Tag:noindex
X-PUBLISHED-TTL:PT1H
BEGIN:VTIMEZONE
TZID:America/Chicago
BEGIN:DAYLIGHT
TZOFFSETFROM:-0600
TZOFFSETTO:-0500
TZNAME:CDT
DTSTART:20200308T080000
END:DAYLIGHT
BEGIN:STANDARD
TZOFFSETFROM:-0500
TZOFFSETTO:-0600
TZNAME:CST
DTSTART:20201101T070000
END:STANDARD
END:VTIMEZONE
BEGIN:VEVENT
DTSTART;TZID=America/Chicago:20200504T100000
DTEND;TZID=America/Chicago:20200504T104000
DTSTAMP:20260421T165238
CREATED:20200429T183246Z
LAST-MODIFIED:20200429T192143Z
UID:15683-1588586400-1588588800@magicalmindsstudio.com
SUMMARY:Drawing Techniques\, ages 8-12\, 5 wks (group 1)
DESCRIPTION:**Our classes are taught via Zoom. Once you have signed up\, we will email you the meeting information and password.** \nLet’s get into some drawing basics this May with Mr. Sam from MM Studio! He’ll cover basic contour and shape\, shading technique\, color\, gesture\, and then\, to cap it all off\, people and portraiture! \nThis five week course is great for children grades 3-6. Each session meets once a week for 40 minutes\, and there will be (VERY LIGHT) homework between sessions. Easy breezy\, but lots of fun\, and tons of learning! \nSkills we’ll develop include: \n\nContour drawing\nShading\nColor\nHow to draw a person\nSelf-portraiture\n\nMaterials you’ll need (not supplied by Magical Minds): \n\nPencils\nColored pencils\nPencil sharpener\nErasers\nTissue\nSketchbook or plain paper\nSharpie marker or black crayola\n\nDates\, times and price: \n\nMondays\, May 4-June 1\, 10-10:40am\, or\n$35 for all 5 sessions
URL:https://magicalmindsstudio.com/calendar/drawing-techniques-ages-8-12/2020-05-04/
LOCATION:Online via Zoom
CATEGORIES:Art Class
ATTACH;FMTTYPE=image/jpeg:https://magicalmindsstudio.com/wp-content/uploads/2020/04/Drawing-6-12-SH.jpg
ORGANIZER;CN="Magical Minds Studio":MAILTO:haj@magicalmindsstudio.com
END:VEVENT
BEGIN:VEVENT
DTSTART;TZID=America/Chicago:20200504T110000
DTEND;TZID=America/Chicago:20200504T114000
DTSTAMP:20260421T165238
CREATED:20200429T190323Z
LAST-MODIFIED:20200429T192842Z
UID:15724-1588590000-1588592400@magicalmindsstudio.com
SUMMARY:Make Your Own Coloring Pages\, ages 5-12
DESCRIPTION:**Our classes are taught via Zoom. Once you have signed up\, we will email you the meeting information and password.** \nEvery get bored of your coloring books? Well guess what—we can make our own! In this single-session class we’ll talk about composition\, shape\, and contour and fill an entire page with cute drawings of our own design. By the end of the session\, we’ll have a page all ready to get colored with marker\, crayon\, colored pencil—your choice. \nMaterials (not supplied by Magical Minds): \n\nWhite paper\nPencil sharpener\nBlack marker or pen\n\nDates\, times and price \n\nMonday\, May 4\, 11-11:40am\n$12 for 1 session
URL:https://magicalmindsstudio.com/calendar/make-your-own-coloring-pages-ages-5-12/
LOCATION:Online via Zoom
CATEGORIES:Art Class
ATTACH;FMTTYPE=image/jpeg:https://magicalmindsstudio.com/wp-content/uploads/2020/04/Coloring-page-5-12-SH.jpg
ORGANIZER;CN="Magical Minds Studio":MAILTO:haj@magicalmindsstudio.com
END:VEVENT
BEGIN:VEVENT
DTSTART;TZID=America/Chicago:20200504T120000
DTEND;TZID=America/Chicago:20200504T123000
DTSTAMP:20260421T165238
CREATED:20200429T194924Z
LAST-MODIFIED:20200429T194951Z
UID:15774-1588593600-1588595400@magicalmindsstudio.com
SUMMARY:Weaving\, ages 6-12\, 5 wks (group 1)
DESCRIPTION:**Our classes are taught via Zoom. Once you have signed up\, we will email you the meeting information and password.** \nThis 5 week course will guide you through the basics of weaving. We will go from making our own loom to ‘dressing’ (preparing) it\, weaving\, taking our piece off the loom and hanging it! \nSkills you’ll learn include: \n\nMaking a loom\nWeaving\nDecorating woven art\n\nMaterials needed (not supplied by Magical Minds): \n\n10” by 12” cardboard piece plus two strips for top and bottom\nExacto knife or scissors\nRuler\nYarn (different colors/sizes/textures are ok and welcome!)\nPlastic needle\nMasking tape/Scotch tape\nTwigs or popsicle sticks\nPencil\n\nDates\, times and price: \n\nMondays\, May 4-June 1\, 12-12:30pm\n$32 for all 5 sessions
URL:https://magicalmindsstudio.com/calendar/weaving-ages-6-12/2020-05-04/
LOCATION:Online via Zoom
CATEGORIES:Art Class
ATTACH;FMTTYPE=image/png:https://magicalmindsstudio.com/wp-content/uploads/2020/04/Weaving-5-12-GN-1.png
ORGANIZER;CN="Magical Minds Studio":MAILTO:haj@magicalmindsstudio.com
END:VEVENT
BEGIN:VEVENT
DTSTART;TZID=America/Chicago:20200504T130000
DTEND;TZID=America/Chicago:20200504T134000
DTSTAMP:20260421T165238
CREATED:20200429T184840Z
LAST-MODIFIED:20200429T200728Z
UID:15696-1588597200-1588599600@magicalmindsstudio.com
SUMMARY:Drawing Techniques\, ages 8-12\, 5 wks (group 2)
DESCRIPTION:**Our classes are taught via Zoom. Once you have signed up\, we will email you the meeting information and password.** \nLet’s get into some drawing basics this May with Mr. Sam from MM Studio! He’ll cover basic contour and shape\, shading technique\, color\, gesture\, and then\, to cap it all off\, people and portraiture! \nThis five week course is great for children grades 3-6. Each session meets once a week for 40 minutes\, and there will be (VERY LIGHT) homework between sessions. Easy breezy\, but lots of fun\, and tons of learning! \nSkills we’ll develop include: \n\nContour drawing\nShading\nColor\nHow to draw a person\nSelf-portraiture\n\nMaterials needed (not supplied by Magical Minds): \n\nPencils\nColored pencils\nPencil sharpener\nErasers\nTissue\nSketchbook or plain paper\nSharpie marker or black crayola\n\nDates\, times and price: \n\nMondays\, May 4-June 1\, 1-1:40pm\n$35 for all 5 sessions
URL:https://magicalmindsstudio.com/calendar/drawing-techniques-ages-8-12-group-2/2020-05-04/
LOCATION:Online via Zoom
CATEGORIES:Art Class
ATTACH;FMTTYPE=image/jpeg:https://magicalmindsstudio.com/wp-content/uploads/2020/04/Drawing-6-12-SH.jpg
ORGANIZER;CN="Magical Minds Studio":MAILTO:haj@magicalmindsstudio.com
END:VEVENT
BEGIN:VEVENT
DTSTART;TZID=America/Chicago:20200504T140000
DTEND;TZID=America/Chicago:20200504T143000
DTSTAMP:20260421T165238
CREATED:20200429T195417Z
LAST-MODIFIED:20200429T195417Z
UID:15786-1588600800-1588602600@magicalmindsstudio.com
SUMMARY:Weaving\, ages 6-12\, 5 wks (group 2)
DESCRIPTION:**Our classes are taught via Zoom. Once you have signed up\, we will email you the meeting information and password.** \nThis 5 week course will guide you through the basics of weaving. We will go from making our own loom to ‘dressing’ (preparing) it\, weaving\, taking our piece off the loom and hanging it! \nSkills you’ll learn include: \n\nMaking a loom\nWeaving\nDecorating woven art\n\nMaterials needed (not supplied by Magical Minds): \n\n10” by 12” cardboard piece plus two strips for top and bottom\nExacto knife or scissors\nRuler\nYarn (different colors/sizes/textures are ok and welcome!)\nPlastic needle\nMasking tape/Scotch tape\nTwigs or popsicle sticks\nPencil\n\nDates\, times and price: \n\nMondays\, May 4-June 1\, 2-2:30pm\n$32 for all 5 sessions
URL:https://magicalmindsstudio.com/calendar/weaving-ages-6-12-5-wks-group-2/2020-05-04/
LOCATION:Online via Zoom
CATEGORIES:Art Class
ATTACH;FMTTYPE=image/png:https://magicalmindsstudio.com/wp-content/uploads/2020/04/Weaving-5-12-GN-1.png
ORGANIZER;CN="Magical Minds Studio":MAILTO:haj@magicalmindsstudio.com
END:VEVENT
END:VCALENDAR