BEGIN:VCALENDAR
VERSION:2.0
PRODID:-//Magical Minds Studio - ECPv6.2.9//NONSGML v1.0//EN
CALSCALE:GREGORIAN
METHOD:PUBLISH
X-ORIGINAL-URL:https://magicalmindsstudio.com
X-WR-CALDESC:Events for Magical Minds Studio
REFRESH-INTERVAL;VALUE=DURATION:PT1H
X-Robots-Tag:noindex
X-PUBLISHED-TTL:PT1H
BEGIN:VTIMEZONE
TZID:America/Chicago
BEGIN:DAYLIGHT
TZOFFSETFROM:-0600
TZOFFSETTO:-0500
TZNAME:CDT
DTSTART:20200308T080000
END:DAYLIGHT
BEGIN:STANDARD
TZOFFSETFROM:-0500
TZOFFSETTO:-0600
TZNAME:CST
DTSTART:20201101T070000
END:STANDARD
END:VTIMEZONE
BEGIN:VEVENT
DTSTART;TZID=America/Chicago:20200507T110000
DTEND;TZID=America/Chicago:20200507T114000
DTSTAMP:20260421T165350
CREATED:20200429T185747Z
LAST-MODIFIED:20200429T192612Z
UID:15712-1588849200-1588851600@magicalmindsstudio.com
SUMMARY:Drawing Techniques\, ages 8-12\, 5 wks (group 3)
DESCRIPTION:**Our classes are taught via Zoom. Once you have signed up\, we will email you the meeting information and password.** \nLet’s get into some drawing basics this May with Mr. Sam from MM Studio! He’ll cover basic contour and shape\, shading technique\, color\, gesture\, and then\, to cap it all off\, people and portraiture! \nThis five week course is great for children grades 3-6. Each session meets once a week for 40 minutes\, and there will be (VERY LIGHT) homework between sessions. Easy breezy\, but lots of fun\, and tons of learning! \nSkills we’ll develop include: \n\nContour drawing\nShading\nColor\nHow to draw a person\nSelf-portraiture\n\nMaterials you’ll need (not supplied by Magical Minds): \n\nPencils\nColored pencils\nPencil sharpener\nErasers\nTissue\nSketchbook or plain paper\nSharpie marker or black crayola\n\nDates\, times and price: \n\nThursdays\, May 7-June 4\, 11-11:40am\n$35 for all 5 sessions
URL:https://magicalmindsstudio.com/calendar/drawing-techniques-ages-8-12-5-wks-group-3/2020-05-07/
LOCATION:Online via Zoom
CATEGORIES:Art Class
ATTACH;FMTTYPE=image/jpeg:https://magicalmindsstudio.com/wp-content/uploads/2020/04/Drawing-6-12-SH.jpg
ORGANIZER;CN="Magical Minds Studio":MAILTO:haj@magicalmindsstudio.com
END:VEVENT
BEGIN:VEVENT
DTSTART;TZID=America/Chicago:20200507T130000
DTEND;TZID=America/Chicago:20200507T134000
DTSTAMP:20260421T165350
CREATED:20200429T205952Z
LAST-MODIFIED:20200429T205952Z
UID:15884-1588856400-1588858800@magicalmindsstudio.com
SUMMARY:Painting Techniques\, ages 8-12\, 5 wks (group 3)
DESCRIPTION:**Our classes are taught via Zoom. Once you have signed up\, we will email you the meeting information and password.** \nBegin mastering your painting techniques with watercolors and acrylic paint over 5 weeks of classes. Each week Ms Lindsay will teach new facets of how to use these paints so that young artists can paint landscapes\, their favorite animals and more! \nTechniques in this class include: \n\nShading with watercolors\nLayering acrylics\nBlending acrylics\nComplimentary colors\nShowing composition and movement\n\nMaterials needed (not supplied by Magical Minds): \n\nWatercolors\nAcrylics\nWater cup\nPaintbrushes\nWatercolor paper or white computer paper (for watercolors)\nCanvas\, foam core or white computer paper (for acrylics)\nPencil and eraser\nDrying towel\nWhite crayon\nCardboard tube\nQ-tips\nBlack Sharpie or other black marker\n\nDates\, times and price: \n\nThursdays\, May 7-June 4\, 1-1:40pm\n$35 for all 5 sessions
URL:https://magicalmindsstudio.com/calendar/painting-techniques-ages-8-12-5-wks-group-3/2020-05-07/
LOCATION:Online via Zoom
CATEGORIES:Art Class
ATTACH;FMTTYPE=image/png:https://magicalmindsstudio.com/wp-content/uploads/2020/04/Screen-Shot-2020-04-28-at-16.07.48.png
ORGANIZER;CN="Magical Minds Studio":MAILTO:haj@magicalmindsstudio.com
END:VEVENT
BEGIN:VEVENT
DTSTART;TZID=America/Chicago:20200507T140000
DTEND;TZID=America/Chicago:20200507T144000
DTSTAMP:20260421T165350
CREATED:20200429T185956Z
LAST-MODIFIED:20200429T192357Z
UID:15718-1588860000-1588862400@magicalmindsstudio.com
SUMMARY:Drawing Techniques\, ages 8-12\, 5 wks (group 4)
DESCRIPTION:**Our classes are taught via Zoom. Once you have signed up\, we will email you the meeting information and password.** \nLet’s get into some drawing basics this May with Mr. Sam from MM Studio! He’ll cover basic contour and shape\, shading technique\, color\, gesture\, and then\, to cap it all off\, people and portraiture! \nThis five week course is great for children grades 3-6. Each session meets once a week for 40 minutes\, and there will be (VERY LIGHT) homework between sessions. Easy breezy\, but lots of fun\, and tons of learning! \nSkills we’ll develop include: \n\nContour drawing\nShading\nColor\nHow to draw a person\nSelf-portraiture\n\nMaterials you’ll need (not supplied by Magical Minds): \n\nPencils\nColored pencils\nPencil sharpener\nErasers\nTissue\nSketchbook or plain paper\nSharpie marker or black crayola\n\nDates\, times and price: \n\nThursdays\, May 7-June 4\, 2-2:40pm\n$35 for all 5 sessions
URL:https://magicalmindsstudio.com/calendar/drawing-techniques-ages-8-12-5-wks-group-4/2020-05-07/
LOCATION:Online via Zoom
CATEGORIES:Art Class
ATTACH;FMTTYPE=image/jpeg:https://magicalmindsstudio.com/wp-content/uploads/2020/04/Drawing-6-12-SH.jpg
ORGANIZER;CN="Magical Minds Studio":MAILTO:haj@magicalmindsstudio.com
END:VEVENT
BEGIN:VEVENT
DTSTART;TZID=America/Chicago:20200507T150000
DTEND;TZID=America/Chicago:20200507T154000
DTSTAMP:20260421T165350
CREATED:20200429T210343Z
LAST-MODIFIED:20200429T210343Z
UID:15890-1588863600-1588866000@magicalmindsstudio.com
SUMMARY:Painting Techniques\, ages 8-12\, 5 wks (group 4)
DESCRIPTION:**Our classes are taught via Zoom. Once you have signed up\, we will email you the meeting information and password.** \nBegin mastering your painting techniques with watercolors and acrylic paint over 5 weeks of classes. Each week Ms Lindsay will teach new facets of how to use these paints so that young artists can paint landscapes\, their favorite animals and more! \nTechniques in this class include: \n\nShading with watercolors\nLayering acrylics\nBlending acrylics\nComplimentary colors\nShowing composition and movement\nMaterials needed (not supplied by Magical Minds):\nWatercolors\nAcrylics\nWater cup\nPaintbrushes\nWatercolor paper or white computer paper (for watercolors)\nCanvas\, foam core or white computer paper (for acrylics)\nPencil and eraser\nDrying towel\nWhite crayon\nCardboard tube\nQ-tips\nBlack Sharpie or other black marker\n\nDates\, times and price: \n\nThursdays\, May 7-June 4\, 3-3:40pm\n$35 for all 5 sessions
URL:https://magicalmindsstudio.com/calendar/painting-techniques-ages-8-12-5-wks-group-4/2020-05-07/
LOCATION:Online via Zoom
CATEGORIES:Art Class
ATTACH;FMTTYPE=image/png:https://magicalmindsstudio.com/wp-content/uploads/2020/04/Screen-Shot-2020-04-28-at-16.07.48.png
ORGANIZER;CN="Magical Minds Studio":MAILTO:haj@magicalmindsstudio.com
END:VEVENT
END:VCALENDAR