BEGIN:VCALENDAR
VERSION:2.0
PRODID:-//Magical Minds Studio - ECPv6.2.9//NONSGML v1.0//EN
CALSCALE:GREGORIAN
METHOD:PUBLISH
X-WR-CALNAME:Magical Minds Studio
X-ORIGINAL-URL:https://magicalmindsstudio.com
X-WR-CALDESC:Events for Magical Minds Studio
REFRESH-INTERVAL;VALUE=DURATION:PT1H
X-Robots-Tag:noindex
X-PUBLISHED-TTL:PT1H
BEGIN:VTIMEZONE
TZID:America/Chicago
BEGIN:DAYLIGHT
TZOFFSETFROM:-0600
TZOFFSETTO:-0500
TZNAME:CDT
DTSTART:20200308T080000
END:DAYLIGHT
BEGIN:STANDARD
TZOFFSETFROM:-0500
TZOFFSETTO:-0600
TZNAME:CST
DTSTART:20201101T070000
END:STANDARD
END:VTIMEZONE
BEGIN:VEVENT
DTSTART;TZID=America/Chicago:20200508T080000
DTEND;TZID=America/Chicago:20200508T130000
DTSTAMP:20260421T165236
CREATED:20200429T211248Z
LAST-MODIFIED:20200429T211248Z
UID:15903-1588924800-1588942800@magicalmindsstudio.com
SUMMARY:Mini Journals\, ages 4-12
DESCRIPTION:**Our classes are taught via Zoom. Once you have signed up\, we will email you the meeting information and password.** \nIn this single session class you will learn how to make your very own mini journal! Nothing is better than writing or drawing on a notebook you made by yourself. Once you know how to make them you can make as many as you want\, think about all the different colors and details you could have! \nMaterials needed (not supplied by Magical Minds): \n\nA piece of paper\nScissors\nColored pencils/markers to decorate\n\nDates\, times and price: \n\nFriday\, May 8\, 15\, 22\, 29 or June 5\, 1-1:30pm\n$10 for 1 session
URL:https://magicalmindsstudio.com/calendar/mini-journals-ages-4-12/2020-05-08/
LOCATION:Online via Zoom
CATEGORIES:Art Class
ATTACH;FMTTYPE=image/png:https://magicalmindsstudio.com/wp-content/uploads/2020/04/Mini-Journals-4-12-GN.png
ORGANIZER;CN="Magical Minds Studio":MAILTO:haj@magicalmindsstudio.com
END:VEVENT
BEGIN:VEVENT
DTSTART;TZID=America/Chicago:20200508T110000
DTEND;TZID=America/Chicago:20200508T114000
DTSTAMP:20260421T165236
CREATED:20200429T202154Z
LAST-MODIFIED:20200429T202154Z
UID:15833-1588935600-1588938000@magicalmindsstudio.com
SUMMARY:Drawing and Painting\, ages 8-12\, 5 wks (group 3)
DESCRIPTION:**Our classes are taught via Zoom. Once you have signed up\, we will email you the meeting information and password.** \nOver 5 sessions\, students will learn the basic of drawing and painting. Lessons include: \n\nBreaking objects down into simple shapes\nPerspective\nColor wheels\nLight and shadow\nBlending watercolors\nMixing other media with watercolors\nProportions\nGesture drawings\nDrawing faces\n\nMaterials needed (these are not supplied by Magical Minds): \n\nPaper (ideally in a sketchbook\, but computer paper also works)\nPencils\nEraser\nWatercolors\nPaintbrushes\nWatercolor paper (computer paper also works)\nCrayons and/or colored pencils and/or markers\nRuler\n\nDates\, times and price: \n\nFridays\, May 8-June 5\, 11:00-11:40am\n$35 for all 5 sessions
URL:https://magicalmindsstudio.com/calendar/drawing-and-painting-ages-8-12-5-wks-group-3/2020-05-08/
LOCATION:Online via Zoom
CATEGORIES:Art Class
ATTACH;FMTTYPE=image/jpeg:https://magicalmindsstudio.com/wp-content/uploads/2020/04/20190819_094932.jpg
ORGANIZER;CN="Magical Minds Studio":MAILTO:haj@magicalmindsstudio.com
END:VEVENT
BEGIN:VEVENT
DTSTART;TZID=America/Chicago:20200508T120000
DTEND;TZID=America/Chicago:20200508T124000
DTSTAMP:20260421T165236
CREATED:20200429T210741Z
LAST-MODIFIED:20200429T210741Z
UID:15896-1588939200-1588941600@magicalmindsstudio.com
SUMMARY:"Watercolor" Triptych\, ages 5-12
DESCRIPTION:**Our classes are taught via Zoom. Once you have signed up\, we will email you the meeting information and password.** \nNo watercolors? No problem! In this single-session class\, we’ll explore ways of using colored pencils and blending to mimic a simple watercolor painting! \nMaterial needed (not supplied by Magical Minds): \n\nWhite paper\nColored pencils\nPencil sharpener\nRuler\nBlack marker\n\nDates\, time\, price: \n\nFriday\, May 8\, 15\, 22\, 29 or June 5\, 12-12:40pm\n$12 for 1 session
URL:https://magicalmindsstudio.com/calendar/watercolor-triptych-ages-5-12/2020-05-08/
LOCATION:Online via Zoom
CATEGORIES:Art Class
ATTACH;FMTTYPE=image/jpeg:https://magicalmindsstudio.com/wp-content/uploads/2020/04/Not-watercolors-5-12-SH.jpg
ORGANIZER;CN="Magical Minds Studio":MAILTO:haj@magicalmindsstudio.com
END:VEVENT
BEGIN:VEVENT
DTSTART;TZID=America/Chicago:20200508T140000
DTEND;TZID=America/Chicago:20200508T144000
DTSTAMP:20260421T165236
CREATED:20200429T211518Z
LAST-MODIFIED:20200429T212310Z
UID:15910-1588946400-1588948800@magicalmindsstudio.com
SUMMARY:Macrame Necklace\, ages 4-12
DESCRIPTION:**Our classes are taught via Zoom. Once you have signed up\, we will email you the meeting information and password.** \nPainting rocks is always fun\, but what if we could turn those rocks into jewelry or a keychain that you could carry with you? We are going to be using a technique called “macrame” to create a little home for our rocks\, make sure you have some painted rocks before this single session lesson! \nMaterials needed (not supplied by Magical Minds): \n\n1 painted rock\n8 equal lengths of yarn or string\nScissors\n\nDates\, time and price: \n\nFriday\, May 8\, 15\, 22\, 29 or June 5\, 2-2:40pm\n$12 for 1 session
URL:https://magicalmindsstudio.com/calendar/macrame-necklace-ages-4-12/2020-05-08/
LOCATION:Online via Zoom
CATEGORIES:Art Class
ATTACH;FMTTYPE=image/png:https://magicalmindsstudio.com/wp-content/uploads/2020/04/Rock-necklace-4-12-GN.png
ORGANIZER;CN="Magical Minds Studio":MAILTO:haj@magicalmindsstudio.com
END:VEVENT
BEGIN:VEVENT
DTSTART;TZID=America/Chicago:20200508T150000
DTEND;TZID=America/Chicago:20200508T154000
DTSTAMP:20260421T165236
CREATED:20200429T202423Z
LAST-MODIFIED:20200429T212648Z
UID:15839-1588950000-1588952400@magicalmindsstudio.com
SUMMARY:Drawing and Painting\, ages 8-12\, 5 wks (group 4)
DESCRIPTION:**Our classes are taught via Zoom. Once you have signed up\, we will email you the meeting information and password.** \nOver 5 sessions\, students will learn the basic of drawing and painting. Lessons include: \n\nBreaking objects down into simple shapes\nPerspective\nColor wheels\nLight and shadow\nBlending watercolors\nMixing other media with watercolors\nProportions\nGesture drawings\nDrawing faces\n\nMaterials needed (these are not supplied by Magical Minds): \n\nPaper (ideally in a sketchbook\, but computer paper also works)\nPencils\nEraser\nWatercolors\nPaintbrushes\nWatercolor paper (computer paper also works)\nCrayons and/or colored pencils and/or markers\nRuler\n\nDates\, times and price: \n\nFridays\, May 8-June 5\, 3:00-3:40pm\n$35 for all 5 sessions
URL:https://magicalmindsstudio.com/calendar/drawing-and-painting-ages-8-12-5-wks-group-4/2020-05-08/
LOCATION:Online via Zoom
CATEGORIES:Art Class
ATTACH;FMTTYPE=image/jpeg:https://magicalmindsstudio.com/wp-content/uploads/2020/04/20190819_094932.jpg
ORGANIZER;CN="Magical Minds Studio":MAILTO:haj@magicalmindsstudio.com
END:VEVENT
BEGIN:VEVENT
DTSTART;TZID=America/Chicago:20200508T160000
DTEND;TZID=America/Chicago:20200508T163000
DTSTAMP:20260421T165236
CREATED:20200429T211803Z
LAST-MODIFIED:20200429T211803Z
UID:15913-1588953600-1588955400@magicalmindsstudio.com
SUMMARY:Finger Knitting Butterflies\, ages 4-12
DESCRIPTION:**Our classes are taught via Zoom. Once you have signed up\, we will email you the meeting information and password.** \nHave you ever seen a butterfly made of yarn? In this single session lesson we will learn how to finger knit and make our very own colorful butterflies. Finger knitting is a great beginner’s guide into using our own bodies as machines to create amazing crafts. \nMaterials needed (not supplied by Magical Minds): \n\n2 balls of yarn (different colors)\nPipe cleaners\nOur fingers!\n\nDates\, time and price: \n\nFriday\, May 8\, 15\, 22\, 29 or June 5\, 4-4:30pm\n$10 for 1 session
URL:https://magicalmindsstudio.com/calendar/finger-knitting-butterflies-ages-4-12/2020-05-08/
LOCATION:Online via Zoom
CATEGORIES:Art Class
ATTACH;FMTTYPE=image/png:https://magicalmindsstudio.com/wp-content/uploads/2020/04/Finger-knit-4-12-GN.png
ORGANIZER;CN="Magical Minds Studio":MAILTO:haj@magicalmindsstudio.com
END:VEVENT
END:VCALENDAR