BEGIN:VCALENDAR
VERSION:2.0
PRODID:-//Magical Minds Studio - ECPv6.2.9//NONSGML v1.0//EN
CALSCALE:GREGORIAN
METHOD:PUBLISH
X-WR-CALNAME:Magical Minds Studio
X-ORIGINAL-URL:https://magicalmindsstudio.com
X-WR-CALDESC:Events for Magical Minds Studio
REFRESH-INTERVAL;VALUE=DURATION:PT1H
X-Robots-Tag:noindex
X-PUBLISHED-TTL:PT1H
BEGIN:VTIMEZONE
TZID:America/Chicago
BEGIN:DAYLIGHT
TZOFFSETFROM:-0600
TZOFFSETTO:-0500
TZNAME:CDT
DTSTART:20220313T080000
END:DAYLIGHT
BEGIN:STANDARD
TZOFFSETFROM:-0500
TZOFFSETTO:-0600
TZNAME:CST
DTSTART:20221106T070000
END:STANDARD
END:VTIMEZONE
BEGIN:VEVENT
DTSTART;TZID=America/Chicago:20220627T090000
DTEND;TZID=America/Chicago:20220627T130000
DTSTAMP:20260420T081247
CREATED:20220315T164637Z
LAST-MODIFIED:20220315T164637Z
UID:18828-1656320400-1656334800@magicalmindsstudio.com
SUMMARY:Ceramics Camp\, Ages 8+
DESCRIPTION:Ceramics camp will consist of hand building in addition to wheel throwing techniques.  Students will learning the process of going from greenware to stoneware and design their own functional pieces. \nThis camps is best suited for students 8 and older. \nCampers should wear clothes that can get dirty and comfortable shoes. Please send a water bottle labeled with your child’s name. No food with nuts\, please. \n\nFull week sign up:\n9am-1pm\, $300
URL:https://magicalmindsstudio.com/calendar/ceramics-camp-ages-8/2022-06-27/
LOCATION:Magical Minds Studio\, 110 Madison St.\, Oak Park\, IL\, 60302\, United States
CATEGORIES:Camps
ATTACH;FMTTYPE=image/jpeg:https://magicalmindsstudio.com/wp-content/uploads/2022/03/IMG_8123.jpg
ORGANIZER;CN="Magical Minds Studio":MAILTO:haj@magicalmindsstudio.com
END:VEVENT
END:VCALENDAR