BEGIN:VCALENDAR
VERSION:2.0
PRODID:-//Magical Minds Studio - ECPv6.2.9//NONSGML v1.0//EN
CALSCALE:GREGORIAN
METHOD:PUBLISH
X-WR-CALNAME:Magical Minds Studio
X-ORIGINAL-URL:https://magicalmindsstudio.com
X-WR-CALDESC:Events for Magical Minds Studio
REFRESH-INTERVAL;VALUE=DURATION:PT1H
X-Robots-Tag:noindex
X-PUBLISHED-TTL:PT1H
BEGIN:VTIMEZONE
TZID:America/Chicago
BEGIN:DAYLIGHT
TZOFFSETFROM:-0600
TZOFFSETTO:-0500
TZNAME:CDT
DTSTART:20210314T080000
END:DAYLIGHT
BEGIN:STANDARD
TZOFFSETFROM:-0500
TZOFFSETTO:-0600
TZNAME:CST
DTSTART:20211107T070000
END:STANDARD
END:VTIMEZONE
BEGIN:VEVENT
DTSTART;TZID=America/Chicago:20210816T080000
DTEND;TZID=America/Chicago:20210816T150000
DTSTAMP:20260421T032954
CREATED:20210209T161453Z
LAST-MODIFIED:20210209T165241Z
UID:17156-1629100800-1629126000@magicalmindsstudio.com
SUMMARY:K-5th grade- Science is Real
DESCRIPTION:Art and Science go hand in hand\, and this week we’ll explore a wide range of scientific experiments to feed our curiosity. From bubbles to static electricity\, we’ll have a ton of fun learning about science.Campers should wear clothes that can get dirty and comfortable shoes. Please send a water bottle labeled with your child’s name. \nNo food with nuts\, please. \nSign up options: \n\n8/9am-12pm\, $52 per day (or if you sign up for all 5 days\, select the discounted price of $225*)\n8/9am-3pm\, $89 per day (or if you sign up for all 5 days\, select the discounted price of $395*)**\n\n*To get the full week discount\, select payment options 3 or 4 \n**Sibling discount for 3pm full week sign ups- use code sibs3pm
URL:https://magicalmindsstudio.com/calendar/k-5th-grade-science-is-real/2021-08-16/
LOCATION:Magical Minds Studio\, 110 Madison St.\, Oak Park\, IL\, 60302\, United States
CATEGORIES:Camps
ATTACH;FMTTYPE=image/jpeg:https://magicalmindsstudio.com/wp-content/uploads/2021/02/816-Science.jpg
ORGANIZER;CN="Magical Minds Studio":MAILTO:haj@magicalmindsstudio.com
END:VEVENT
END:VCALENDAR