BEGIN:VCALENDAR
VERSION:2.0
PRODID:-//Magical Minds Studio - ECPv6.2.9//NONSGML v1.0//EN
CALSCALE:GREGORIAN
METHOD:PUBLISH
X-WR-CALNAME:Magical Minds Studio
X-ORIGINAL-URL:https://magicalmindsstudio.com
X-WR-CALDESC:Events for Magical Minds Studio
REFRESH-INTERVAL;VALUE=DURATION:PT1H
X-Robots-Tag:noindex
X-PUBLISHED-TTL:PT1H
BEGIN:VTIMEZONE
TZID:America/Chicago
BEGIN:DAYLIGHT
TZOFFSETFROM:-0600
TZOFFSETTO:-0500
TZNAME:CDT
DTSTART:20220313T080000
END:DAYLIGHT
BEGIN:STANDARD
TZOFFSETFROM:-0500
TZOFFSETTO:-0600
TZNAME:CST
DTSTART:20221106T070000
END:STANDARD
END:VTIMEZONE
BEGIN:VEVENT
DTSTART;TZID=America/Chicago:20220718T080000
DTEND;TZID=America/Chicago:20220718T150000
DTSTAMP:20260420T081453
CREATED:20220118T190407Z
LAST-MODIFIED:20220118T201250Z
UID:18591-1658131200-1658156400@magicalmindsstudio.com
SUMMARY:K-6th grade: Art that Changed the World
DESCRIPTION:Campers will experience the uplifting power of art through the artists and that impacted the world. From Michelangelo to Bansky\, we’ll explore the messages and culture that defined these artists and their work. \nCampers should wear clothes that can get dirty and comfortable shoes. Please send a water bottle labeled with your child’s name. \nNo food with nuts\, please. \nSign up options: \n\n8/9am-12pm\, $54 per day (or if you sign up for all 5 days\, select the discounted price of $245*)\n8/9am-3pm\, $91 per day (or if you sign up for all 5 days\, select the discounted price of $405*)**\n\n*To get the full week discount\, select payment options 3 or 4\n**Sibling discount for 3pm full week sign ups- use code sibs3pm
URL:https://magicalmindsstudio.com/calendar/k-6th-grade-art-that-changed-the-world/2022-07-18/
LOCATION:Magical Minds Studio\, 110 Madison St.\, Oak Park\, IL\, 60302\, United States
CATEGORIES:Camps
ATTACH;FMTTYPE=image/jpeg:https://magicalmindsstudio.com/wp-content/uploads/2022/01/Untitled_acrylic_and_mixed_media_on_canvas_by_-Jean-Michel_Basquiat-_1984.jpeg
ORGANIZER;CN="Magical Minds Studio":MAILTO:haj@magicalmindsstudio.com
END:VEVENT
END:VCALENDAR