BEGIN:VCALENDAR
VERSION:2.0
PRODID:-//Magical Minds Studio - ECPv6.2.9//NONSGML v1.0//EN
CALSCALE:GREGORIAN
METHOD:PUBLISH
X-WR-CALNAME:Magical Minds Studio
X-ORIGINAL-URL:https://magicalmindsstudio.com
X-WR-CALDESC:Events for Magical Minds Studio
REFRESH-INTERVAL;VALUE=DURATION:PT1H
X-Robots-Tag:noindex
X-PUBLISHED-TTL:PT1H
BEGIN:VTIMEZONE
TZID:America/Chicago
BEGIN:DAYLIGHT
TZOFFSETFROM:-0600
TZOFFSETTO:-0500
TZNAME:CDT
DTSTART:20210314T080000
END:DAYLIGHT
BEGIN:STANDARD
TZOFFSETFROM:-0500
TZOFFSETTO:-0600
TZNAME:CST
DTSTART:20211107T070000
END:STANDARD
END:VTIMEZONE
BEGIN:VEVENT
DTSTART;TZID=America/Chicago:20210809T080000
DTEND;TZID=America/Chicago:20210809T150000
DTSTAMP:20260421T044916
CREATED:20210209T161055Z
LAST-MODIFIED:20210209T165144Z
UID:17144-1628496000-1628521200@magicalmindsstudio.com
SUMMARY:K-6th grade- Comics and Anime
DESCRIPTION:Telling stories and making them come to life on paper is what this class is all about. We’ll review basic line drawings and shading to create scenes and characters.  Students will end the week with their own comic book and a 3D version of their character made from modeling clay. \nCampers should wear clothes that can get dirty and comfortable shoes. Please send a water bottle labeled with your child’s name. \nNo food with nuts\, please. \nSign up options: \n\n8/9am-12pm\, $52 per day (or if you sign up for all 5 days\, select the discounted price of $225*)\n8/9am-3pm\, $89 per day (or if you sign up for all 5 days\, select the discounted price of $395*)**\n\n*To get the full week discount\, select payment options 3 or 4 \n**Sibling discount for 3pm full week sign ups- use code sibs3pm
URL:https://magicalmindsstudio.com/calendar/k-6th-grade-comics-and-anime/2021-08-09/
LOCATION:Magical Minds Studio\, 110 Madison St.\, Oak Park\, IL\, 60302\, United States
CATEGORIES:Camps
ATTACH;FMTTYPE=image/jpeg:https://magicalmindsstudio.com/wp-content/uploads/2021/02/809-Comics.jpg
ORGANIZER;CN="Magical Minds Studio":MAILTO:haj@magicalmindsstudio.com
END:VEVENT
END:VCALENDAR