BEGIN:VCALENDAR
VERSION:2.0
PRODID:-//Magical Minds Studio - ECPv6.2.9//NONSGML v1.0//EN
CALSCALE:GREGORIAN
METHOD:PUBLISH
X-WR-CALNAME:Magical Minds Studio
X-ORIGINAL-URL:https://magicalmindsstudio.com
X-WR-CALDESC:Events for Magical Minds Studio
REFRESH-INTERVAL;VALUE=DURATION:PT1H
X-Robots-Tag:noindex
X-PUBLISHED-TTL:PT1H
BEGIN:VTIMEZONE
TZID:America/Chicago
BEGIN:DAYLIGHT
TZOFFSETFROM:-0600
TZOFFSETTO:-0500
TZNAME:CDT
DTSTART:20210314T080000
END:DAYLIGHT
BEGIN:STANDARD
TZOFFSETFROM:-0500
TZOFFSETTO:-0600
TZNAME:CST
DTSTART:20211107T070000
END:STANDARD
END:VTIMEZONE
BEGIN:VEVENT
DTSTART;TZID=America/Chicago:20210104T080000
DTEND;TZID=America/Chicago:20210104T170000
DTSTAMP:20260420T110837
CREATED:20201229T180109Z
LAST-MODIFIED:20201229T180109Z
UID:16925-1609747200-1609779600@magicalmindsstudio.com
SUMMARY:Design A Space
DESCRIPTION:Who doesn’t need a screen break? Students love making mini figures and furniture and in this week of camp they’ll have the creative freedom to build mini rooms in a house made of wood and other materials.\n\nEveryone should bring a water bottle and snack\, as well as a lunch if you’re staying after 12:00 pm. Also for campers staying past lunch\, we’ll dive into choice-based activities which include fine arts\, games and outside play for the afternoon.\n\nEnrollment is limited to comply with CDC guidelines\, and safety and cleanliness are top priorities. Campers should wear a mask\, clothes that can get dirty\, warm clothes for outside play\, and comfortable shoes.\n\nNo food with nuts\, please.\n \nSign up for the full 5-day week:\n\nDrop off between 8-9am; pick up at noon\, $225 per week\nDrop off between 8-9am; pick up at 3pm\, $395 per week
URL:https://magicalmindsstudio.com/calendar/design-a-space/2021-01-04/
LOCATION:Magical Minds Studio\, 110 Madison St.\, Oak Park\, IL\, 60302\, United States
CATEGORIES:Camps
ATTACH;FMTTYPE=image/jpeg:https://magicalmindsstudio.com/wp-content/uploads/2019/10/20191024_160336.jpg
ORGANIZER;CN="Magical Minds Studio":MAILTO:haj@magicalmindsstudio.com
END:VEVENT
END:VCALENDAR