BEGIN:VCALENDAR
VERSION:2.0
PRODID:-//Magical Minds Studio - ECPv6.2.9//NONSGML v1.0//EN
CALSCALE:GREGORIAN
METHOD:PUBLISH
X-ORIGINAL-URL:https://magicalmindsstudio.com
X-WR-CALDESC:Events for Magical Minds Studio
REFRESH-INTERVAL;VALUE=DURATION:PT1H
X-Robots-Tag:noindex
X-PUBLISHED-TTL:PT1H
BEGIN:VTIMEZONE
TZID:America/Chicago
BEGIN:DAYLIGHT
TZOFFSETFROM:-0600
TZOFFSETTO:-0500
TZNAME:CDT
DTSTART:20210314T080000
END:DAYLIGHT
BEGIN:STANDARD
TZOFFSETFROM:-0500
TZOFFSETTO:-0600
TZNAME:CST
DTSTART:20211107T070000
END:STANDARD
END:VTIMEZONE
BEGIN:VEVENT
DTSTART;TZID=America/Chicago:20210329T080000
DTEND;TZID=America/Chicago:20210329T130000
DTSTAMP:20260420T142520
CREATED:20201229T180929Z
LAST-MODIFIED:20210112T184210Z
UID:16931-1617004800-1617022800@magicalmindsstudio.com
SUMMARY:Spring Break Camp
DESCRIPTION:Combining some of our greatest hits\, Spring Break campers will be making both ceramics and multimedia art this week! Slip\, score and slab ceramics in the morning\, and then after snack let your imagination loose with our maker materials to create multimedia projects. \nEveryone should bring a water bottle and snack\, as well as a lunch. \nEnrollment is limited to comply with CDC guidelines\, and safety and cleanliness are top priorities. Campers should wear a mask\, clothes that can get dirty\, warm clothes for outside play\, and comfortable shoes. \nNo food with nuts\, please. \nSign up for the full 5-day week: \n\nDrop off between 8-9am; pick up at 1pm\, $300 per week
URL:https://magicalmindsstudio.com/calendar/spring-break-camp-2/2021-03-29/
LOCATION:Magical Minds Studio\, 110 Madison St.\, Oak Park\, IL\, 60302\, United States
CATEGORIES:Camps
ATTACH;FMTTYPE=image/jpeg:https://magicalmindsstudio.com/wp-content/uploads/2021/01/20210112_3910.jpg
ORGANIZER;CN="Magical Minds Studio":MAILTO:haj@magicalmindsstudio.com
END:VEVENT
END:VCALENDAR