BEGIN:VCALENDAR
VERSION:2.0
PRODID:-//Magical Minds Studio - ECPv6.2.9//NONSGML v1.0//EN
CALSCALE:GREGORIAN
METHOD:PUBLISH
X-ORIGINAL-URL:https://magicalmindsstudio.com
X-WR-CALDESC:Events for Magical Minds Studio
REFRESH-INTERVAL;VALUE=DURATION:PT1H
X-Robots-Tag:noindex
X-PUBLISHED-TTL:PT1H
BEGIN:VTIMEZONE
TZID:America/Chicago
BEGIN:DAYLIGHT
TZOFFSETFROM:-0600
TZOFFSETTO:-0500
TZNAME:CDT
DTSTART:20200308T080000
END:DAYLIGHT
BEGIN:STANDARD
TZOFFSETFROM:-0500
TZOFFSETTO:-0600
TZNAME:CST
DTSTART:20201101T070000
END:STANDARD
END:VTIMEZONE
BEGIN:VEVENT
DTSTART;TZID=America/Chicago:20200617T140000
DTEND;TZID=America/Chicago:20200617T144000
DTSTAMP:20260420T082106
CREATED:20200610T160818Z
LAST-MODIFIED:20200610T160818Z
UID:16160-1592402400-1592404800@magicalmindsstudio.com
SUMMARY:Paint Blending\, ages 8-12
DESCRIPTION:**Our classes are taught via Zoom. Once you have signed up\, we will email you the meeting information and password.**\nFollow along with Ms. Lindsay as we create a radial image by learning blending techniques with acrylic paint. \nMaterials needed (not supplied by Magical Minds): \n\nWhite Paper\n#2 Pencil\nMarkers\nCrayons\nCup of Water\nPaint Brush\n\nPrice: \n\n$15 for 1 session
URL:https://magicalmindsstudio.com/calendar/paint-blending-ages-8-12/2020-06-17/
LOCATION:Online via Zoom
CATEGORIES:Art Class
ATTACH;FMTTYPE=image/jpeg:https://magicalmindsstudio.com/wp-content/uploads/2020/06/LD-ZOOM-SAMPLE_BLENDING.jpg
ORGANIZER;CN="Magical Minds Studio":MAILTO:haj@magicalmindsstudio.com
END:VEVENT
END:VCALENDAR