BEGIN:VCALENDAR
VERSION:2.0
PRODID:-//Magical Minds Studio - ECPv6.2.9//NONSGML v1.0//EN
CALSCALE:GREGORIAN
METHOD:PUBLISH
X-ORIGINAL-URL:https://magicalmindsstudio.com
X-WR-CALDESC:Events for Magical Minds Studio
REFRESH-INTERVAL;VALUE=DURATION:PT1H
X-Robots-Tag:noindex
X-PUBLISHED-TTL:PT1H
BEGIN:VTIMEZONE
TZID:America/Chicago
BEGIN:DAYLIGHT
TZOFFSETFROM:-0600
TZOFFSETTO:-0500
TZNAME:CDT
DTSTART:20220313T080000
END:DAYLIGHT
BEGIN:STANDARD
TZOFFSETFROM:-0500
TZOFFSETTO:-0600
TZNAME:CST
DTSTART:20221106T070000
END:STANDARD
END:VTIMEZONE
BEGIN:VEVENT
DTSTART;TZID=America/Chicago:20220711T090000
DTEND;TZID=America/Chicago:20220711T120000
DTSTAMP:20260420T081408
CREATED:20220118T200110Z
LAST-MODIFIED:20220118T200110Z
UID:18652-1657530000-1657540800@magicalmindsstudio.com
SUMMARY:Pre-K Camp\, age 3+
DESCRIPTION:Pre-K campers will have a great time making art while practicing math\, language\, and science. We’ll also play outside and make the most of summer! \nPre-K camp is offered Monday-Thursday. Campers should wear clothes that can get dirty and comfortable shoes. Everyone should bring a water bottle and snack. Drop off at 9:00 am\, pick up at 12:00 pm. \nNo food with nuts\, please. \nSign up: \n\n$215 for the full 4-day week\n\n*Pre-K campers must be toilet trained.
URL:https://magicalmindsstudio.com/calendar/pre-k-camp-age-3-3/2022-07-11/
LOCATION:Magical Minds Studio\, 110 Madison St.\, Oak Park\, IL\, 60302\, United States
CATEGORIES:Camps
ATTACH;FMTTYPE=image/jpeg:https://magicalmindsstudio.com/wp-content/uploads/2022/01/20210806_5129.jpg
ORGANIZER;CN="Magical Minds Studio":MAILTO:haj@magicalmindsstudio.com
END:VEVENT
END:VCALENDAR